BEGIN:VCALENDAR
VERSION:2.0
PRODID:ics
BEGIN:VEVENT
UID:6564c3c47a21b
DTSTART;TZID=Asia/Bangkok:20230516T175700
SEQUENCE:0
TRANSP:OPAQUE
DTEND;TZID=Asia/Bangkok:20230516T175700
SUMMARY:Submission of  Financial Statement and Performance Explanation for 
 1Q/2023
CLASS:PUBLIC
DTSTAMP:20231127T162852Z
END:VEVENT
END:VCALENDAR