BEGIN:VCALENDAR
VERSION:2.0
PRODID:ics
BEGIN:VEVENT
UID:6564c3cc53de7
DTSTART;TZID=Asia/Bangkok:20230816T170000
SEQUENCE:0
TRANSP:OPAQUE
DTEND;TZID=Asia/Bangkok:20230816T170000
SUMMARY:Submission of  Financial Statement and Performance Explanation for 
 2Q/2023
CLASS:PUBLIC
DTSTAMP:20231127T162900Z
END:VEVENT
END:VCALENDAR